BEGIN:VCALENDAR
VERSION:2.0
PRODID:-//Österreichisch-Französische Vereinigung - ECPv6.15.20//NONSGML v1.0//EN
CALSCALE:GREGORIAN
METHOD:PUBLISH
X-WR-CALNAME:Österreichisch-Französische Vereinigung
X-ORIGINAL-URL:https://oefv.org
X-WR-CALDESC:Veranstaltungen für Österreichisch-Französische Vereinigung
REFRESH-INTERVAL;VALUE=DURATION:PT1H
X-Robots-Tag:noindex
X-PUBLISHED-TTL:PT1H
BEGIN:VTIMEZONE
TZID:Europe/Vienna
BEGIN:DAYLIGHT
TZOFFSETFROM:+0100
TZOFFSETTO:+0200
TZNAME:CEST
DTSTART:20250330T010000
END:DAYLIGHT
BEGIN:STANDARD
TZOFFSETFROM:+0200
TZOFFSETTO:+0100
TZNAME:CET
DTSTART:20251026T010000
END:STANDARD
BEGIN:DAYLIGHT
TZOFFSETFROM:+0100
TZOFFSETTO:+0200
TZNAME:CEST
DTSTART:20260329T010000
END:DAYLIGHT
BEGIN:STANDARD
TZOFFSETFROM:+0200
TZOFFSETTO:+0100
TZNAME:CET
DTSTART:20261025T010000
END:STANDARD
BEGIN:DAYLIGHT
TZOFFSETFROM:+0100
TZOFFSETTO:+0200
TZNAME:CEST
DTSTART:20270328T010000
END:DAYLIGHT
BEGIN:STANDARD
TZOFFSETFROM:+0200
TZOFFSETTO:+0100
TZNAME:CET
DTSTART:20271031T010000
END:STANDARD
END:VTIMEZONE
BEGIN:VEVENT
DTSTART;TZID=Europe/Vienna:20260226T153000
DTEND;TZID=Europe/Vienna:20260226T163000
DTSTAMP:20260425T194807
CREATED:20260222T163727Z
LAST-MODIFIED:20260222T164115Z
UID:1916-1772119800-1772123400@oefv.org
SUMMARY:« Gustave Courbet. Realist und Rebell »
DESCRIPTION:
URL:https://oefv.org/veranstaltungen/gustave-courbet-realist-und-rebell/
END:VEVENT
END:VCALENDAR