BEGIN:VCALENDAR
VERSION:2.0
PRODID:-//Österreichisch-Französische Vereinigung - ECPv6.15.20//NONSGML v1.0//EN
CALSCALE:GREGORIAN
METHOD:PUBLISH
X-WR-CALNAME:Österreichisch-Französische Vereinigung
X-ORIGINAL-URL:https://oefv.org
X-WR-CALDESC:Veranstaltungen für Österreichisch-Französische Vereinigung
REFRESH-INTERVAL;VALUE=DURATION:PT1H
X-Robots-Tag:noindex
X-PUBLISHED-TTL:PT1H
BEGIN:VTIMEZONE
TZID:Europe/Vienna
BEGIN:DAYLIGHT
TZOFFSETFROM:+0100
TZOFFSETTO:+0200
TZNAME:CEST
DTSTART:20240331T010000
END:DAYLIGHT
BEGIN:STANDARD
TZOFFSETFROM:+0200
TZOFFSETTO:+0100
TZNAME:CET
DTSTART:20241027T010000
END:STANDARD
BEGIN:DAYLIGHT
TZOFFSETFROM:+0100
TZOFFSETTO:+0200
TZNAME:CEST
DTSTART:20250330T010000
END:DAYLIGHT
BEGIN:STANDARD
TZOFFSETFROM:+0200
TZOFFSETTO:+0100
TZNAME:CET
DTSTART:20251026T010000
END:STANDARD
BEGIN:DAYLIGHT
TZOFFSETFROM:+0100
TZOFFSETTO:+0200
TZNAME:CEST
DTSTART:20260329T010000
END:DAYLIGHT
BEGIN:STANDARD
TZOFFSETFROM:+0200
TZOFFSETTO:+0100
TZNAME:CET
DTSTART:20261025T010000
END:STANDARD
END:VTIMEZONE
BEGIN:VEVENT
DTSTART;TZID=Europe/Vienna:20250922T190000
DTEND;TZID=Europe/Vienna:20250922T190000
DTSTAMP:20260426T023148
CREATED:20250906T161433Z
LAST-MODIFIED:20250906T161433Z
UID:1889-1758567600-1758567600@oefv.org
SUMMARY:« Aber was ist die Musik ? »
DESCRIPTION:
URL:https://oefv.org/veranstaltungen/aber-was-ist-die-musik/
END:VEVENT
END:VCALENDAR